BEGIN:VCALENDAR
VERSION:2.0
PRODID:-//Menlo Park Academy of Dance - ECPv6.15.20//NONSGML v1.0//EN
CALSCALE:GREGORIAN
METHOD:PUBLISH
X-WR-CALNAME:Menlo Park Academy of Dance
X-ORIGINAL-URL:https://menloparkacademyofdance.com
X-WR-CALDESC:Events for Menlo Park Academy of Dance
REFRESH-INTERVAL;VALUE=DURATION:PT1H
X-Robots-Tag:noindex
X-PUBLISHED-TTL:PT1H
BEGIN:VTIMEZONE
TZID:America/Los_Angeles
BEGIN:DAYLIGHT
TZOFFSETFROM:-0800
TZOFFSETTO:-0700
TZNAME:PDT
DTSTART:20210314T100000
END:DAYLIGHT
BEGIN:STANDARD
TZOFFSETFROM:-0700
TZOFFSETTO:-0800
TZNAME:PST
DTSTART:20211107T090000
END:STANDARD
BEGIN:DAYLIGHT
TZOFFSETFROM:-0800
TZOFFSETTO:-0700
TZNAME:PDT
DTSTART:20220313T100000
END:DAYLIGHT
BEGIN:STANDARD
TZOFFSETFROM:-0700
TZOFFSETTO:-0800
TZNAME:PST
DTSTART:20221106T090000
END:STANDARD
BEGIN:DAYLIGHT
TZOFFSETFROM:-0800
TZOFFSETTO:-0700
TZNAME:PDT
DTSTART:20230312T100000
END:DAYLIGHT
BEGIN:STANDARD
TZOFFSETFROM:-0700
TZOFFSETTO:-0800
TZNAME:PST
DTSTART:20231105T090000
END:STANDARD
BEGIN:DAYLIGHT
TZOFFSETFROM:-0800
TZOFFSETTO:-0700
TZNAME:PDT
DTSTART:20240310T100000
END:DAYLIGHT
BEGIN:STANDARD
TZOFFSETFROM:-0700
TZOFFSETTO:-0800
TZNAME:PST
DTSTART:20241103T090000
END:STANDARD
BEGIN:DAYLIGHT
TZOFFSETFROM:-0800
TZOFFSETTO:-0700
TZNAME:PDT
DTSTART:20250309T100000
END:DAYLIGHT
BEGIN:STANDARD
TZOFFSETFROM:-0700
TZOFFSETTO:-0800
TZNAME:PST
DTSTART:20251102T090000
END:STANDARD
BEGIN:DAYLIGHT
TZOFFSETFROM:-0800
TZOFFSETTO:-0700
TZNAME:PDT
DTSTART:20260308T100000
END:DAYLIGHT
BEGIN:STANDARD
TZOFFSETFROM:-0700
TZOFFSETTO:-0800
TZNAME:PST
DTSTART:20261101T090000
END:STANDARD
END:VTIMEZONE
BEGIN:VEVENT
DTSTART;VALUE=DATE:20250607
DTEND;VALUE=DATE:20250609
DTSTAMP:20260422T074514
CREATED:20240623T150227Z
LAST-MODIFIED:20240623T193534Z
UID:3944-1749254400-1749427199@menloparkacademyofdance.com
SUMMARY:June Recital
DESCRIPTION:Saturday 6/7 and Sunday 6/8
URL:https://menloparkacademyofdance.com/event/june-recital-2/
LOCATION:Canada College Main Theatre\, 4200 Farm Hill Blvd.\, Redwood City\, CA\, United States
END:VEVENT
BEGIN:VEVENT
DTSTART;VALUE=DATE:20250606
DTEND;VALUE=DATE:20250607
DTSTAMP:20260422T074514
CREATED:20240623T150151Z
LAST-MODIFIED:20240623T150151Z
UID:3942-1749168000-1749254399@menloparkacademyofdance.com
SUMMARY:Last Day of Classes
DESCRIPTION:
URL:https://menloparkacademyofdance.com/event/last-day-of-classes-3/
LOCATION:CA
END:VEVENT
BEGIN:VEVENT
DTSTART;VALUE=DATE:20250526
DTEND;VALUE=DATE:20250527
DTSTAMP:20260422T074514
CREATED:20240623T150104Z
LAST-MODIFIED:20240623T150104Z
UID:3940-1748217600-1748303999@menloparkacademyofdance.com
SUMMARY:Memorial Day (no classes)
DESCRIPTION:
URL:https://menloparkacademyofdance.com/event/memorial-day-no-classes-4/
LOCATION:CA
END:VEVENT
BEGIN:VEVENT
DTSTART;VALUE=DATE:20250102
DTEND;VALUE=DATE:20250105
DTSTAMP:20260422T074514
CREATED:20240623T194219Z
LAST-MODIFIED:20240623T194219Z
UID:3952-1735776000-1736035199@menloparkacademyofdance.com
SUMMARY:Winter Intensive
DESCRIPTION:
URL:https://menloparkacademyofdance.com/event/winter-intensive-3/
LOCATION:CA
END:VEVENT
BEGIN:VEVENT
DTSTART;VALUE=DATE:20241223
DTEND;VALUE=DATE:20250106
DTSTAMP:20260422T074514
CREATED:20240623T150031Z
LAST-MODIFIED:20240623T150031Z
UID:3938-1734912000-1736121599@menloparkacademyofdance.com
SUMMARY:Winter Break (no classes)
DESCRIPTION:
URL:https://menloparkacademyofdance.com/event/winter-break-no-classes-2/
LOCATION:CA
END:VEVENT
BEGIN:VEVENT
DTSTART;VALUE=DATE:20241221
DTEND;VALUE=DATE:20241223
DTSTAMP:20260422T074514
CREATED:20240529T225446Z
LAST-MODIFIED:20240529T225446Z
UID:3909-1734739200-1734911999@menloparkacademyofdance.com
SUMMARY:Winter Suite\, A Nutcracker Fantasy
DESCRIPTION:
URL:https://menloparkacademyofdance.com/event/winter-suite-a-nutcracker-fantasy-3/
LOCATION:Canada College Main Theatre\, 4200 Farm Hill Blvd.\, Redwood City\, CA\, United States
ATTACH;FMTTYPE=image/png:https://menloparkacademyofdance.com/wp-content/uploads/2024/05/2024-winter-suite.png
END:VEVENT
BEGIN:VEVENT
DTSTART;VALUE=DATE:20241127
DTEND;VALUE=DATE:20241202
DTSTAMP:20260422T074514
CREATED:20240623T145951Z
LAST-MODIFIED:20240623T185714Z
UID:3936-1732665600-1733097599@menloparkacademyofdance.com
SUMMARY:Thanksgiving Break (no classes)
DESCRIPTION:
URL:https://menloparkacademyofdance.com/event/thanksgiving-break-no-classes-2/
LOCATION:CA
END:VEVENT
BEGIN:VEVENT
DTSTART;VALUE=DATE:20240902
DTEND;VALUE=DATE:20240903
DTSTAMP:20260422T074514
CREATED:20240623T145834Z
LAST-MODIFIED:20240623T145834Z
UID:3933-1725235200-1725321599@menloparkacademyofdance.com
SUMMARY:Labor Day (no classes)
DESCRIPTION:
URL:https://menloparkacademyofdance.com/event/labor-day-no-classes-4/
LOCATION:CA
END:VEVENT
BEGIN:VEVENT
DTSTART;VALUE=DATE:20240825
DTEND;VALUE=DATE:20240826
DTSTAMP:20260422T074514
CREATED:20240529T233446Z
LAST-MODIFIED:20240529T233446Z
UID:3911-1724544000-1724630399@menloparkacademyofdance.com
SUMMARY:Winter Suite\, A Nutcracker Fantasy Auditions
DESCRIPTION:
URL:https://menloparkacademyofdance.com/event/winter-suite-a-nutcracker-fantasy-auditions-2/
LOCATION:Menlo Park Academy of Dance studios\, Menlo Park
END:VEVENT
BEGIN:VEVENT
DTSTART;VALUE=DATE:20240812
DTEND;VALUE=DATE:20240813
DTSTAMP:20260422T074514
CREATED:20240530T003842Z
LAST-MODIFIED:20240530T003931Z
UID:3922-1723420800-1723507199@menloparkacademyofdance.com
SUMMARY:First day of Fall Classes
DESCRIPTION:
URL:https://menloparkacademyofdance.com/event/first-day-of-fall-classes/
LOCATION:Menlo Park Academy of Dance studios\, Menlo Park
END:VEVENT
BEGIN:VEVENT
DTSTART;VALUE=DATE:20240708
DTEND;VALUE=DATE:20240804
DTSTAMP:20260422T074514
CREATED:20230625T135823Z
LAST-MODIFIED:20230625T135823Z
UID:3715-1720396800-1722729599@menloparkacademyofdance.com
SUMMARY:Summer Classes 2024
DESCRIPTION:
URL:https://menloparkacademyofdance.com/event/summer-classes-2024/
LOCATION:CA
END:VEVENT
BEGIN:VEVENT
DTSTART;VALUE=DATE:20240610
DTEND;VALUE=DATE:20240622
DTSTAMP:20260422T074514
CREATED:20230625T135713Z
LAST-MODIFIED:20240530T004042Z
UID:3713-1717977600-1719014399@menloparkacademyofdance.com
SUMMARY:Summer Intensive 2024
DESCRIPTION:
URL:https://menloparkacademyofdance.com/event/summer-intensive-2024/
LOCATION:CA
END:VEVENT
BEGIN:VEVENT
DTSTART;VALUE=DATE:20240608
DTEND;VALUE=DATE:20240610
DTSTAMP:20260422T074514
CREATED:20230625T135638Z
LAST-MODIFIED:20230625T135638Z
UID:3711-1717804800-1717977599@menloparkacademyofdance.com
SUMMARY:Recital 2024
DESCRIPTION:
URL:https://menloparkacademyofdance.com/event/recital-2024/
LOCATION:CA
END:VEVENT
BEGIN:VEVENT
DTSTART;VALUE=DATE:20240607
DTEND;VALUE=DATE:20240608
DTSTAMP:20260422T074514
CREATED:20230625T135406Z
LAST-MODIFIED:20230625T135406Z
UID:3707-1717718400-1717804799@menloparkacademyofdance.com
SUMMARY:Last Day of Classes
DESCRIPTION:
URL:https://menloparkacademyofdance.com/event/last-day-of-classes-2/
LOCATION:CA
END:VEVENT
BEGIN:VEVENT
DTSTART;VALUE=DATE:20240527
DTEND;VALUE=DATE:20240528
DTSTAMP:20260422T074514
CREATED:20230625T135336Z
LAST-MODIFIED:20230625T135336Z
UID:3705-1716768000-1716854399@menloparkacademyofdance.com
SUMMARY:Memorial Day (No classes)
DESCRIPTION:
URL:https://menloparkacademyofdance.com/event/memorial-day-no-classes-3/
LOCATION:CA
END:VEVENT
BEGIN:VEVENT
DTSTART;VALUE=DATE:20240103
DTEND;VALUE=DATE:20240106
DTSTAMP:20260422T074514
CREATED:20230625T135601Z
LAST-MODIFIED:20230625T135613Z
UID:3709-1704240000-1704499199@menloparkacademyofdance.com
SUMMARY:Winter Intensive 2024
DESCRIPTION:
URL:https://menloparkacademyofdance.com/event/winter-intensive-2024/
LOCATION:CA
END:VEVENT
BEGIN:VEVENT
DTSTART;VALUE=DATE:20231224
DTEND;VALUE=DATE:20240108
DTSTAMP:20260422T074514
CREATED:20230625T135250Z
LAST-MODIFIED:20230625T135259Z
UID:3702-1703376000-1704671999@menloparkacademyofdance.com
SUMMARY:Winter Break (No classes)
DESCRIPTION:
URL:https://menloparkacademyofdance.com/event/winter-breal-no-classes/
LOCATION:CA
END:VEVENT
BEGIN:VEVENT
DTSTART;VALUE=DATE:20231202
DTEND;VALUE=DATE:20231204
DTSTAMP:20260422T074514
CREATED:20230530T222512Z
LAST-MODIFIED:20230530T222516Z
UID:3680-1701475200-1701647999@menloparkacademyofdance.com
SUMMARY:"Winter Suite\, A Nutcracker Fantasy"
DESCRIPTION:
URL:https://menloparkacademyofdance.com/event/winter-suite-a-nutcracker-fantasy-2/
LOCATION:Canada College Main Theatre\, 4200 Farm Hill Blvd.\, Redwood City\, CA\, United States
END:VEVENT
BEGIN:VEVENT
DTSTART;VALUE=DATE:20231123
DTEND;VALUE=DATE:20231126
DTSTAMP:20260422T074514
CREATED:20230625T135218Z
LAST-MODIFIED:20230625T135218Z
UID:3700-1700697600-1700956799@menloparkacademyofdance.com
SUMMARY:Thanksgiving Break (No classes)
DESCRIPTION:
URL:https://menloparkacademyofdance.com/event/thanksgiving-break-no-classes/
LOCATION:CA
END:VEVENT
BEGIN:VEVENT
DTSTART;VALUE=DATE:20230904
DTEND;VALUE=DATE:20230905
DTSTAMP:20260422T074514
CREATED:20230625T135111Z
LAST-MODIFIED:20230625T135111Z
UID:3698-1693785600-1693871999@menloparkacademyofdance.com
SUMMARY:Labor Day (no classes)
DESCRIPTION:
URL:https://menloparkacademyofdance.com/event/labor-day-no-classes-3/
LOCATION:CA
END:VEVENT
BEGIN:VEVENT
DTSTART;VALUE=DATE:20230827
DTEND;VALUE=DATE:20230828
DTSTAMP:20260422T074514
CREATED:20230530T222424Z
LAST-MODIFIED:20230530T222424Z
UID:3678-1693094400-1693180799@menloparkacademyofdance.com
SUMMARY:Audition for "Winter Suite\, A Nutcracker Fantasy"
DESCRIPTION:
URL:https://menloparkacademyofdance.com/event/audition-for-winter-suite-a-nutcracker-fantasy/
LOCATION:Menlo Park Academy of Dance studios\, Menlo Park
END:VEVENT
BEGIN:VEVENT
DTSTART;VALUE=DATE:20230814
DTEND;VALUE=DATE:20230815
DTSTAMP:20260422T074514
CREATED:20230530T222636Z
LAST-MODIFIED:20230530T222642Z
UID:3682-1691971200-1692057599@menloparkacademyofdance.com
SUMMARY:First Day of Year-Round Classes
DESCRIPTION:
URL:https://menloparkacademyofdance.com/event/first-day-of-year-round-classes-2/
LOCATION:CA
END:VEVENT
BEGIN:VEVENT
DTSTART;VALUE=DATE:20230710
DTEND;VALUE=DATE:20230806
DTSTAMP:20260422T074514
CREATED:20220705T150242Z
LAST-MODIFIED:20230530T222821Z
UID:3492-1688947200-1691279999@menloparkacademyofdance.com
SUMMARY:Summer Classes
DESCRIPTION:
URL:https://menloparkacademyofdance.com/event/summer-classes-4/
LOCATION:CA
END:VEVENT
BEGIN:VEVENT
DTSTART;VALUE=DATE:20230612
DTEND;VALUE=DATE:20230731
DTSTAMP:20260422T074514
CREATED:20220705T150205Z
LAST-MODIFIED:20230530T222257Z
UID:3490-1686528000-1690761599@menloparkacademyofdance.com
SUMMARY:Summer Intensive
DESCRIPTION:
URL:https://menloparkacademyofdance.com/event/summer-intensive/
LOCATION:CA
END:VEVENT
BEGIN:VEVENT
DTSTART;VALUE=DATE:20230610
DTEND;VALUE=DATE:20230612
DTSTAMP:20260422T074514
CREATED:20220705T150057Z
LAST-MODIFIED:20220705T150057Z
UID:3488-1686355200-1686527999@menloparkacademyofdance.com
SUMMARY:June Recital
DESCRIPTION:
URL:https://menloparkacademyofdance.com/event/june-recital/
LOCATION:CA
END:VEVENT
BEGIN:VEVENT
DTSTART;VALUE=DATE:20230609
DTEND;VALUE=DATE:20230610
DTSTAMP:20260422T074514
CREATED:20220705T145746Z
LAST-MODIFIED:20220705T145746Z
UID:3484-1686268800-1686355199@menloparkacademyofdance.com
SUMMARY:Last day of classes
DESCRIPTION:
URL:https://menloparkacademyofdance.com/event/last-day-of-classes/
LOCATION:CA
END:VEVENT
BEGIN:VEVENT
DTSTART;VALUE=DATE:20230529
DTEND;VALUE=DATE:20230530
DTSTAMP:20260422T074514
CREATED:20220705T145709Z
LAST-MODIFIED:20220705T145717Z
UID:3481-1685318400-1685404799@menloparkacademyofdance.com
SUMMARY:Memorial Day - no classes
DESCRIPTION:
URL:https://menloparkacademyofdance.com/event/memorial-day/
LOCATION:CA
END:VEVENT
BEGIN:VEVENT
DTSTART;VALUE=DATE:20221227
DTEND;VALUE=DATE:20221230
DTSTAMP:20260422T074514
CREATED:20220705T145828Z
LAST-MODIFIED:20220705T150031Z
UID:3486-1672099200-1672358399@menloparkacademyofdance.com
SUMMARY:Winter Intensive
DESCRIPTION:
URL:https://menloparkacademyofdance.com/event/winter-intensive-2/
LOCATION:CA
END:VEVENT
BEGIN:VEVENT
DTSTART;VALUE=DATE:20221219
DTEND;VALUE=DATE:20230104
DTSTAMP:20260422T074514
CREATED:20220705T145457Z
LAST-MODIFIED:20220705T145629Z
UID:3479-1671408000-1672790399@menloparkacademyofdance.com
SUMMARY:Winter Break
DESCRIPTION:
URL:https://menloparkacademyofdance.com/event/winter-break-3/
LOCATION:CA
END:VEVENT
BEGIN:VEVENT
DTSTART;VALUE=DATE:20221203
DTEND;VALUE=DATE:20221205
DTSTAMP:20260422T074514
CREATED:20220402T222628Z
LAST-MODIFIED:20220402T222628Z
UID:3407-1670025600-1670198399@menloparkacademyofdance.com
SUMMARY:Winter Suite\, A Nutcracker Fantasy
DESCRIPTION:
URL:https://menloparkacademyofdance.com/event/winter-suite-a-nutcracker-fantasy/
LOCATION:CA
END:VEVENT
END:VCALENDAR