BEGIN:VCALENDAR
VERSION:2.0
PRODID:-//Menlo Park Academy of Dance - ECPv6.15.20//NONSGML v1.0//EN
CALSCALE:GREGORIAN
METHOD:PUBLISH
X-ORIGINAL-URL:https://menloparkacademyofdance.com
X-WR-CALDESC:Events for Menlo Park Academy of Dance
REFRESH-INTERVAL;VALUE=DURATION:PT1H
X-Robots-Tag:noindex
X-PUBLISHED-TTL:PT1H
BEGIN:VTIMEZONE
TZID:America/Los_Angeles
BEGIN:DAYLIGHT
TZOFFSETFROM:-0800
TZOFFSETTO:-0700
TZNAME:PDT
DTSTART:20190310T100000
END:DAYLIGHT
BEGIN:STANDARD
TZOFFSETFROM:-0700
TZOFFSETTO:-0800
TZNAME:PST
DTSTART:20191103T090000
END:STANDARD
BEGIN:DAYLIGHT
TZOFFSETFROM:-0800
TZOFFSETTO:-0700
TZNAME:PDT
DTSTART:20200308T100000
END:DAYLIGHT
BEGIN:STANDARD
TZOFFSETFROM:-0700
TZOFFSETTO:-0800
TZNAME:PST
DTSTART:20201101T090000
END:STANDARD
BEGIN:DAYLIGHT
TZOFFSETFROM:-0800
TZOFFSETTO:-0700
TZNAME:PDT
DTSTART:20210314T100000
END:DAYLIGHT
BEGIN:STANDARD
TZOFFSETFROM:-0700
TZOFFSETTO:-0800
TZNAME:PST
DTSTART:20211107T090000
END:STANDARD
BEGIN:DAYLIGHT
TZOFFSETFROM:-0800
TZOFFSETTO:-0700
TZNAME:PDT
DTSTART:20220313T100000
END:DAYLIGHT
BEGIN:STANDARD
TZOFFSETFROM:-0700
TZOFFSETTO:-0800
TZNAME:PST
DTSTART:20221106T090000
END:STANDARD
BEGIN:DAYLIGHT
TZOFFSETFROM:-0800
TZOFFSETTO:-0700
TZNAME:PDT
DTSTART:20230312T100000
END:DAYLIGHT
BEGIN:STANDARD
TZOFFSETFROM:-0700
TZOFFSETTO:-0800
TZNAME:PST
DTSTART:20231105T090000
END:STANDARD
END:VTIMEZONE
BEGIN:VEVENT
DTSTART;VALUE=DATE:20221124
DTEND;VALUE=DATE:20221128
DTSTAMP:20260422T120230
CREATED:20220705T145307Z
LAST-MODIFIED:20220705T145307Z
UID:3473-1669248000-1669593599@menloparkacademyofdance.com
SUMMARY:Thanksgiving Break
DESCRIPTION:
URL:https://menloparkacademyofdance.com/event/thanksgiving-break-3/
END:VEVENT
BEGIN:VEVENT
DTSTART;VALUE=DATE:20220905
DTEND;VALUE=DATE:20220906
DTSTAMP:20260422T120230
CREATED:20220705T145221Z
LAST-MODIFIED:20220705T145221Z
UID:3471-1662336000-1662422399@menloparkacademyofdance.com
SUMMARY:Labor Day - no classes
DESCRIPTION:
URL:https://menloparkacademyofdance.com/event/labor-day-no-classes-2/
END:VEVENT
BEGIN:VEVENT
DTSTART;VALUE=DATE:20220828
DTEND;VALUE=DATE:20220829
DTSTAMP:20260422T120230
CREATED:20220403T205850Z
LAST-MODIFIED:20220403T205850Z
UID:3415-1661644800-1661731199@menloparkacademyofdance.com
SUMMARY:Winter Suite\, A Nutcracker Fantasy Auditions
DESCRIPTION:
URL:https://menloparkacademyofdance.com/event/winter-suite-a-nutcracker-fantasy-auditions/
END:VEVENT
BEGIN:VEVENT
DTSTART;VALUE=DATE:20220815
DTEND;VALUE=DATE:20220816
DTSTAMP:20260422T120230
CREATED:20220705T145347Z
LAST-MODIFIED:20220705T145347Z
UID:3475-1660521600-1660607999@menloparkacademyofdance.com
SUMMARY:Start of Fall Classes
DESCRIPTION:
URL:https://menloparkacademyofdance.com/event/start-of-fall-classes/
END:VEVENT
BEGIN:VEVENT
DTSTART;VALUE=DATE:20220711
DTEND;VALUE=DATE:20220807
DTSTAMP:20260422T120230
CREATED:20210706T155128Z
LAST-MODIFIED:20210706T155128Z
UID:3229-1657497600-1659830399@menloparkacademyofdance.com
SUMMARY:2022 Summer Classes
DESCRIPTION:
URL:https://menloparkacademyofdance.com/event/2022-summer-classes/
LOCATION:Menlo Park Academy of Dance studios\, Menlo Park
END:VEVENT
BEGIN:VEVENT
DTSTART;VALUE=DATE:20220613
DTEND;VALUE=DATE:20220702
DTSTAMP:20260422T120230
CREATED:20210706T155041Z
LAST-MODIFIED:20210706T155041Z
UID:3227-1655078400-1656719999@menloparkacademyofdance.com
SUMMARY:Summer Intensive 2022
DESCRIPTION:
URL:https://menloparkacademyofdance.com/event/summer-intensive-2022/
LOCATION:Menlo Park Academy of Dance studios\, Menlo Park
END:VEVENT
BEGIN:VEVENT
DTSTART;VALUE=DATE:20220610
DTEND;VALUE=DATE:20220611
DTSTAMP:20260422T120230
CREATED:20210712T131635Z
LAST-MODIFIED:20210712T131635Z
UID:3276-1654819200-1654905599@menloparkacademyofdance.com
SUMMARY:Last Day of Year-Round Classes
DESCRIPTION:
URL:https://menloparkacademyofdance.com/event/last-day-of-year-round-classes/
END:VEVENT
BEGIN:VEVENT
DTSTART;VALUE=DATE:20220609
DTEND;VALUE=DATE:20220611
DTSTAMP:20260422T120230
CREATED:20210706T154623Z
LAST-MODIFIED:20220402T213514Z
UID:3223-1654732800-1654905599@menloparkacademyofdance.com
SUMMARY:2022 June Recital
DESCRIPTION:
URL:https://menloparkacademyofdance.com/event/2022-june-recital/
LOCATION:Canada College Main Theatre\, 4200 Farm Hill Blvd.\, Redwood City\, CA\, United States
END:VEVENT
BEGIN:VEVENT
DTSTART;VALUE=DATE:20220530
DTEND;VALUE=DATE:20220531
DTSTAMP:20260422T120230
CREATED:20210706T154103Z
LAST-MODIFIED:20210706T154103Z
UID:3213-1653868800-1653955199@menloparkacademyofdance.com
SUMMARY:Memorial Day - Studio Closed
DESCRIPTION:
URL:https://menloparkacademyofdance.com/event/memorial-day-studio-closed/
END:VEVENT
BEGIN:VEVENT
DTSTART;VALUE=DATE:20220307
DTEND;VALUE=DATE:20220408
DTSTAMP:20260422T120230
CREATED:20210712T131558Z
LAST-MODIFIED:20210712T131558Z
UID:3274-1646611200-1649375999@menloparkacademyofdance.com
SUMMARY:Royal Academy of Dance Exam Tour
DESCRIPTION:
URL:https://menloparkacademyofdance.com/event/royal-academy-of-dance-exam-tour/
END:VEVENT
BEGIN:VEVENT
DTSTART;VALUE=DATE:20220103
DTEND;VALUE=DATE:20220104
DTSTAMP:20260422T120230
CREATED:20210712T131516Z
LAST-MODIFIED:20210712T131516Z
UID:3272-1641168000-1641254399@menloparkacademyofdance.com
SUMMARY:Classes resume
DESCRIPTION:
URL:https://menloparkacademyofdance.com/event/classes-resume/
END:VEVENT
BEGIN:VEVENT
DTSTART;VALUE=DATE:20211228
DTEND;VALUE=DATE:20211231
DTSTAMP:20260422T120230
CREATED:20210706T154436Z
LAST-MODIFIED:20210706T154436Z
UID:3220-1640649600-1640908799@menloparkacademyofdance.com
SUMMARY:Winter Intensive 2021
DESCRIPTION:
URL:https://menloparkacademyofdance.com/event/winter-intensive-2021/
LOCATION:Menlo Park Academy of Dance studios\, Menlo Park
END:VEVENT
BEGIN:VEVENT
DTSTART;VALUE=DATE:20211220
DTEND;VALUE=DATE:20220103
DTSTAMP:20260422T120230
CREATED:20210706T154027Z
LAST-MODIFIED:20210706T154027Z
UID:3211-1639958400-1641167999@menloparkacademyofdance.com
SUMMARY:Winter Break - Studio Closed
DESCRIPTION:
URL:https://menloparkacademyofdance.com/event/winter-break-studio-closed/
END:VEVENT
BEGIN:VEVENT
DTSTART;VALUE=DATE:20211204
DTEND;VALUE=DATE:20211206
DTSTAMP:20260422T120230
CREATED:20210706T154254Z
LAST-MODIFIED:20211103T193658Z
UID:3215-1638576000-1638748799@menloparkacademyofdance.com
SUMMARY:Winter Suite - A Nutcracker Fantasy
DESCRIPTION:
URL:https://menloparkacademyofdance.com/event/winter-trilogy/
LOCATION:Canada College Main Theatre\, 4200 Farm Hill Blvd.\, Redwood City\, CA\, United States
END:VEVENT
BEGIN:VEVENT
DTSTART;VALUE=DATE:20211125
DTEND;VALUE=DATE:20211129
DTSTAMP:20260422T120230
CREATED:20210706T153951Z
LAST-MODIFIED:20210706T153951Z
UID:3209-1637798400-1638143999@menloparkacademyofdance.com
SUMMARY:Thanksgiving Break - Studio Closed
DESCRIPTION:
URL:https://menloparkacademyofdance.com/event/thanksgiving-break-studio-closed/
END:VEVENT
BEGIN:VEVENT
DTSTART;VALUE=DATE:20210906
DTEND;VALUE=DATE:20210907
DTSTAMP:20260422T120230
CREATED:20210706T153906Z
LAST-MODIFIED:20210706T153906Z
UID:3207-1630886400-1630972799@menloparkacademyofdance.com
SUMMARY:Labor Day - Studio Closed
DESCRIPTION:
URL:https://menloparkacademyofdance.com/event/labor-day-studio-closed/
END:VEVENT
BEGIN:VEVENT
DTSTART;VALUE=DATE:20210829
DTEND;VALUE=DATE:20210830
DTSTAMP:20260422T120230
CREATED:20210706T154341Z
LAST-MODIFIED:20210706T154341Z
UID:3218-1630195200-1630281599@menloparkacademyofdance.com
SUMMARY:Winter Trilogy Audition
DESCRIPTION:
URL:https://menloparkacademyofdance.com/event/winter-trilogy-audition/
LOCATION:Menlo Park Academy of Dance studios\, Menlo Park
END:VEVENT
BEGIN:VEVENT
DTSTART;VALUE=DATE:20210816
DTEND;VALUE=DATE:20210817
DTSTAMP:20260422T120230
CREATED:20210706T155227Z
LAST-MODIFIED:20210706T155227Z
UID:3231-1629072000-1629158399@menloparkacademyofdance.com
SUMMARY:First Day of Year-Round Classes
DESCRIPTION:
URL:https://menloparkacademyofdance.com/event/first-day-of-year-round-classes/
END:VEVENT
BEGIN:VEVENT
DTSTART;VALUE=DATE:20210712
DTEND;VALUE=DATE:20210808
DTSTAMP:20260422T120230
CREATED:20210220T151754Z
LAST-MODIFIED:20210220T151754Z
UID:3082-1626048000-1628380799@menloparkacademyofdance.com
SUMMARY:Summer Classes
DESCRIPTION:
URL:https://menloparkacademyofdance.com/event/summer-classes-3/
END:VEVENT
BEGIN:VEVENT
DTSTART;VALUE=DATE:20210614
DTEND;VALUE=DATE:20210703
DTSTAMP:20260422T120230
CREATED:20200802T151905Z
LAST-MODIFIED:20210218T190127Z
UID:2633-1623628800-1625270399@menloparkacademyofdance.com
SUMMARY:Junior Summer Intensive
DESCRIPTION:
URL:https://menloparkacademyofdance.com/event/junior-summer-intensive-2/
END:VEVENT
BEGIN:VEVENT
DTSTART;VALUE=DATE:20210614
DTEND;VALUE=DATE:20210703
DTSTAMP:20260422T120230
CREATED:20200802T151820Z
LAST-MODIFIED:20210218T190023Z
UID:2631-1623628800-1625270399@menloparkacademyofdance.com
SUMMARY:Summer Intensive 2021
DESCRIPTION:
URL:https://menloparkacademyofdance.com/event/summer-intensive-2021/
END:VEVENT
BEGIN:VEVENT
DTSTART;VALUE=DATE:20210612
DTEND;VALUE=DATE:20210614
DTSTAMP:20260422T120230
CREATED:20200802T151740Z
LAST-MODIFIED:20200802T151740Z
UID:2629-1623456000-1623628799@menloparkacademyofdance.com
SUMMARY:June Recital 2021
DESCRIPTION:
URL:https://menloparkacademyofdance.com/event/june-recital-2021/
END:VEVENT
BEGIN:VEVENT
DTSTART;VALUE=DATE:20210611
DTEND;VALUE=DATE:20210612
DTSTAMP:20260422T120230
CREATED:20200802T151611Z
LAST-MODIFIED:20200802T151611Z
UID:2625-1623369600-1623455999@menloparkacademyofdance.com
SUMMARY:Last Day of Class
DESCRIPTION:
URL:https://menloparkacademyofdance.com/event/last-day-of-class-3/
END:VEVENT
BEGIN:VEVENT
DTSTART;VALUE=DATE:20210531
DTEND;VALUE=DATE:20210601
DTSTAMP:20260422T120230
CREATED:20200802T151533Z
LAST-MODIFIED:20200802T151533Z
UID:2623-1622419200-1622505599@menloparkacademyofdance.com
SUMMARY:Studio Closed - Memorial Day
DESCRIPTION:
URL:https://menloparkacademyofdance.com/event/studio-closed-memorial-day/
END:VEVENT
BEGIN:VEVENT
DTSTART;VALUE=DATE:20201228
DTEND;VALUE=DATE:20201231
DTSTAMP:20260422T120230
CREATED:20200802T151701Z
LAST-MODIFIED:20200802T151701Z
UID:2627-1609113600-1609372799@menloparkacademyofdance.com
SUMMARY:Winter Intensive
DESCRIPTION:
URL:https://menloparkacademyofdance.com/event/winter-intensive/
END:VEVENT
BEGIN:VEVENT
DTSTART;VALUE=DATE:20201221
DTEND;VALUE=DATE:20210104
DTSTAMP:20260422T120230
CREATED:20200802T151441Z
LAST-MODIFIED:20200802T151441Z
UID:2620-1608508800-1609718399@menloparkacademyofdance.com
SUMMARY:Winter Break
DESCRIPTION:
URL:https://menloparkacademyofdance.com/event/winter-break-2/
END:VEVENT
BEGIN:VEVENT
DTSTART;VALUE=DATE:20201212
DTEND;VALUE=DATE:20201214
DTSTAMP:20260422T120230
CREATED:20200526T142148Z
LAST-MODIFIED:20200526T142148Z
UID:2495-1607731200-1607903999@menloparkacademyofdance.com
SUMMARY:Holiday Production
DESCRIPTION:
URL:https://menloparkacademyofdance.com/event/holiday-production/
END:VEVENT
BEGIN:VEVENT
DTSTART;VALUE=DATE:20201126
DTEND;VALUE=DATE:20201130
DTSTAMP:20260422T120230
CREATED:20200802T151404Z
LAST-MODIFIED:20200802T151404Z
UID:2618-1606348800-1606694399@menloparkacademyofdance.com
SUMMARY:Thanksgiving Break
DESCRIPTION:
URL:https://menloparkacademyofdance.com/event/thanksgiving-break-2/
END:VEVENT
BEGIN:VEVENT
DTSTART;VALUE=DATE:20200907
DTEND;VALUE=DATE:20200908
DTSTAMP:20260422T120230
CREATED:20200802T151319Z
LAST-MODIFIED:20200802T151319Z
UID:2615-1599436800-1599523199@menloparkacademyofdance.com
SUMMARY:Studio Closed - Labor Day
DESCRIPTION:
URL:https://menloparkacademyofdance.com/event/studio-closed-labor-day/
END:VEVENT
BEGIN:VEVENT
DTSTART;VALUE=DATE:20200830
DTEND;VALUE=DATE:20200831
DTSTAMP:20260422T120230
CREATED:20200526T142234Z
LAST-MODIFIED:20200526T142731Z
UID:2497-1598745600-1598831999@menloparkacademyofdance.com
SUMMARY:Audition for Holiday Production
DESCRIPTION:
URL:https://menloparkacademyofdance.com/event/audition-for-holiday-production/
END:VEVENT
END:VCALENDAR