BEGIN:VCALENDAR
VERSION:2.0
PRODID:-//Menlo Park Academy of Dance - ECPv6.15.20//NONSGML v1.0//EN
CALSCALE:GREGORIAN
METHOD:PUBLISH
X-WR-CALNAME:Menlo Park Academy of Dance
X-ORIGINAL-URL:https://menloparkacademyofdance.com
X-WR-CALDESC:Events for Menlo Park Academy of Dance
REFRESH-INTERVAL;VALUE=DURATION:PT1H
X-Robots-Tag:noindex
X-PUBLISHED-TTL:PT1H
BEGIN:VTIMEZONE
TZID:America/Los_Angeles
BEGIN:DAYLIGHT
TZOFFSETFROM:-0800
TZOFFSETTO:-0700
TZNAME:PDT
DTSTART:20180311T100000
END:DAYLIGHT
BEGIN:STANDARD
TZOFFSETFROM:-0700
TZOFFSETTO:-0800
TZNAME:PST
DTSTART:20181104T090000
END:STANDARD
BEGIN:DAYLIGHT
TZOFFSETFROM:-0800
TZOFFSETTO:-0700
TZNAME:PDT
DTSTART:20190310T100000
END:DAYLIGHT
BEGIN:STANDARD
TZOFFSETFROM:-0700
TZOFFSETTO:-0800
TZNAME:PST
DTSTART:20191103T090000
END:STANDARD
BEGIN:DAYLIGHT
TZOFFSETFROM:-0800
TZOFFSETTO:-0700
TZNAME:PDT
DTSTART:20200308T100000
END:DAYLIGHT
BEGIN:STANDARD
TZOFFSETFROM:-0700
TZOFFSETTO:-0800
TZNAME:PST
DTSTART:20201101T090000
END:STANDARD
BEGIN:DAYLIGHT
TZOFFSETFROM:-0800
TZOFFSETTO:-0700
TZNAME:PDT
DTSTART:20210314T100000
END:DAYLIGHT
BEGIN:STANDARD
TZOFFSETFROM:-0700
TZOFFSETTO:-0800
TZNAME:PST
DTSTART:20211107T090000
END:STANDARD
BEGIN:DAYLIGHT
TZOFFSETFROM:-0800
TZOFFSETTO:-0700
TZNAME:PDT
DTSTART:20220313T100000
END:DAYLIGHT
BEGIN:STANDARD
TZOFFSETFROM:-0700
TZOFFSETTO:-0800
TZNAME:PST
DTSTART:20221106T090000
END:STANDARD
END:VTIMEZONE
BEGIN:VEVENT
DTSTART;VALUE=DATE:20210614
DTEND;VALUE=DATE:20210703
DTSTAMP:20260422T145048
CREATED:20200802T151820Z
LAST-MODIFIED:20210218T190023Z
UID:2631-1623628800-1625270399@menloparkacademyofdance.com
SUMMARY:Summer Intensive 2021
DESCRIPTION:
URL:https://menloparkacademyofdance.com/event/summer-intensive-2021/
END:VEVENT
BEGIN:VEVENT
DTSTART;VALUE=DATE:20210612
DTEND;VALUE=DATE:20210614
DTSTAMP:20260422T145048
CREATED:20200802T151740Z
LAST-MODIFIED:20200802T151740Z
UID:2629-1623456000-1623628799@menloparkacademyofdance.com
SUMMARY:June Recital 2021
DESCRIPTION:
URL:https://menloparkacademyofdance.com/event/june-recital-2021/
END:VEVENT
BEGIN:VEVENT
DTSTART;VALUE=DATE:20210611
DTEND;VALUE=DATE:20210612
DTSTAMP:20260422T145048
CREATED:20200802T151611Z
LAST-MODIFIED:20200802T151611Z
UID:2625-1623369600-1623455999@menloparkacademyofdance.com
SUMMARY:Last Day of Class
DESCRIPTION:
URL:https://menloparkacademyofdance.com/event/last-day-of-class-3/
END:VEVENT
BEGIN:VEVENT
DTSTART;VALUE=DATE:20210531
DTEND;VALUE=DATE:20210601
DTSTAMP:20260422T145048
CREATED:20200802T151533Z
LAST-MODIFIED:20200802T151533Z
UID:2623-1622419200-1622505599@menloparkacademyofdance.com
SUMMARY:Studio Closed - Memorial Day
DESCRIPTION:
URL:https://menloparkacademyofdance.com/event/studio-closed-memorial-day/
END:VEVENT
BEGIN:VEVENT
DTSTART;VALUE=DATE:20201228
DTEND;VALUE=DATE:20201231
DTSTAMP:20260422T145048
CREATED:20200802T151701Z
LAST-MODIFIED:20200802T151701Z
UID:2627-1609113600-1609372799@menloparkacademyofdance.com
SUMMARY:Winter Intensive
DESCRIPTION:
URL:https://menloparkacademyofdance.com/event/winter-intensive/
END:VEVENT
BEGIN:VEVENT
DTSTART;VALUE=DATE:20201221
DTEND;VALUE=DATE:20210104
DTSTAMP:20260422T145048
CREATED:20200802T151441Z
LAST-MODIFIED:20200802T151441Z
UID:2620-1608508800-1609718399@menloparkacademyofdance.com
SUMMARY:Winter Break
DESCRIPTION:
URL:https://menloparkacademyofdance.com/event/winter-break-2/
END:VEVENT
BEGIN:VEVENT
DTSTART;VALUE=DATE:20201212
DTEND;VALUE=DATE:20201214
DTSTAMP:20260422T145048
CREATED:20200526T142148Z
LAST-MODIFIED:20200526T142148Z
UID:2495-1607731200-1607903999@menloparkacademyofdance.com
SUMMARY:Holiday Production
DESCRIPTION:
URL:https://menloparkacademyofdance.com/event/holiday-production/
END:VEVENT
BEGIN:VEVENT
DTSTART;VALUE=DATE:20201126
DTEND;VALUE=DATE:20201130
DTSTAMP:20260422T145048
CREATED:20200802T151404Z
LAST-MODIFIED:20200802T151404Z
UID:2618-1606348800-1606694399@menloparkacademyofdance.com
SUMMARY:Thanksgiving Break
DESCRIPTION:
URL:https://menloparkacademyofdance.com/event/thanksgiving-break-2/
END:VEVENT
BEGIN:VEVENT
DTSTART;VALUE=DATE:20200907
DTEND;VALUE=DATE:20200908
DTSTAMP:20260422T145048
CREATED:20200802T151319Z
LAST-MODIFIED:20200802T151319Z
UID:2615-1599436800-1599523199@menloparkacademyofdance.com
SUMMARY:Studio Closed - Labor Day
DESCRIPTION:
URL:https://menloparkacademyofdance.com/event/studio-closed-labor-day/
END:VEVENT
BEGIN:VEVENT
DTSTART;VALUE=DATE:20200830
DTEND;VALUE=DATE:20200831
DTSTAMP:20260422T145048
CREATED:20200526T142234Z
LAST-MODIFIED:20200526T142731Z
UID:2497-1598745600-1598831999@menloparkacademyofdance.com
SUMMARY:Audition for Holiday Production
DESCRIPTION:
URL:https://menloparkacademyofdance.com/event/audition-for-holiday-production/
END:VEVENT
BEGIN:VEVENT
DTSTART;VALUE=DATE:20200817
DTEND;VALUE=DATE:20200818
DTSTAMP:20260422T145048
CREATED:20200526T141628Z
LAST-MODIFIED:20200526T141628Z
UID:2491-1597622400-1597708799@menloparkacademyofdance.com
SUMMARY:Fall Classes Start
DESCRIPTION:
URL:https://menloparkacademyofdance.com/event/fall-classes-start/
END:VEVENT
BEGIN:VEVENT
DTSTART;VALUE=DATE:20200706
DTEND;VALUE=DATE:20200802
DTSTAMP:20260422T145048
CREATED:20200526T141533Z
LAST-MODIFIED:20200526T141533Z
UID:2489-1593993600-1596326399@menloparkacademyofdance.com
SUMMARY:Summer Classes
DESCRIPTION:
URL:https://menloparkacademyofdance.com/event/summer-classes-2/
END:VEVENT
BEGIN:VEVENT
DTSTART;VALUE=DATE:20200706
DTEND;VALUE=DATE:20200718
DTSTAMP:20260422T145048
CREATED:20190620T212931Z
LAST-MODIFIED:20200526T141149Z
UID:2131-1593993600-1595030399@menloparkacademyofdance.com
SUMMARY:Junior Summer Intensive
DESCRIPTION:
URL:https://menloparkacademyofdance.com/event/junior-summer-intensive/
END:VEVENT
BEGIN:VEVENT
DTSTART;VALUE=DATE:20200706
DTEND;VALUE=DATE:20200718
DTSTAMP:20260422T145048
CREATED:20190620T212858Z
LAST-MODIFIED:20200526T142908Z
UID:2129-1593993600-1595030399@menloparkacademyofdance.com
SUMMARY:Summer Intensive 2020
DESCRIPTION:
URL:https://menloparkacademyofdance.com/event/summer-intensive-2020/
END:VEVENT
BEGIN:VEVENT
DTSTART;TZID=America/Los_Angeles:20200627T140000
DTEND;TZID=America/Los_Angeles:20200627T140000
DTSTAMP:20260422T145048
CREATED:20190620T212822Z
LAST-MODIFIED:20200526T141424Z
UID:2127-1593266400-1593266400@menloparkacademyofdance.com
SUMMARY:Dance Festival on Zoom
DESCRIPTION:
URL:https://menloparkacademyofdance.com/event/june-recital-2020/
LOCATION:Zoom
END:VEVENT
BEGIN:VEVENT
DTSTART;VALUE=DATE:20200626
DTEND;VALUE=DATE:20200627
DTSTAMP:20260422T145048
CREATED:20190620T212653Z
LAST-MODIFIED:20200526T141908Z
UID:2123-1593129600-1593215999@menloparkacademyofdance.com
SUMMARY:Last Day of Online Classes
DESCRIPTION:
URL:https://menloparkacademyofdance.com/event/last-day-of-class-2/
END:VEVENT
BEGIN:VEVENT
DTSTART;VALUE=DATE:20200525
DTEND;VALUE=DATE:20200526
DTSTAMP:20260422T145048
CREATED:20190620T212612Z
LAST-MODIFIED:20190620T212612Z
UID:2121-1590364800-1590451199@menloparkacademyofdance.com
SUMMARY:Memorial Day - no classes
DESCRIPTION:
URL:https://menloparkacademyofdance.com/event/memorial-day-no-classes-2/
END:VEVENT
BEGIN:VEVENT
DTSTART;VALUE=DATE:20200316
DTEND;VALUE=DATE:20200401
DTSTAMP:20260422T145048
CREATED:20200315T194454Z
LAST-MODIFIED:20200315T194454Z
UID:2424-1584316800-1585699199@menloparkacademyofdance.com
SUMMARY:School closed
DESCRIPTION:
URL:https://menloparkacademyofdance.com/event/school-closed/
END:VEVENT
BEGIN:VEVENT
DTSTART;VALUE=DATE:20200102
DTEND;VALUE=DATE:20200105
DTSTAMP:20260422T145048
CREATED:20190620T212733Z
LAST-MODIFIED:20190620T212733Z
UID:2125-1577923200-1578182399@menloparkacademyofdance.com
SUMMARY:Winter Intensive 2020
DESCRIPTION:
URL:https://menloparkacademyofdance.com/event/winter-intensive-2020/
END:VEVENT
BEGIN:VEVENT
DTSTART;VALUE=DATE:20191223
DTEND;VALUE=DATE:20200106
DTSTAMP:20260422T145048
CREATED:20190620T212537Z
LAST-MODIFIED:20190620T212537Z
UID:2119-1577059200-1578268799@menloparkacademyofdance.com
SUMMARY:Winter Break
DESCRIPTION:
URL:https://menloparkacademyofdance.com/event/winter-break/
END:VEVENT
BEGIN:VEVENT
DTSTART;VALUE=DATE:20191222
DTEND;VALUE=DATE:20191223
DTSTAMP:20260422T145048
CREATED:20180725T182325Z
LAST-MODIFIED:20180725T182325Z
UID:1867-1576972800-1577059199@menloparkacademyofdance.com
SUMMARY:Registration due for RAD exams
DESCRIPTION:
URL:https://menloparkacademyofdance.com/event/registration-due-for-rad-exams/
END:VEVENT
BEGIN:VEVENT
DTSTART;VALUE=DATE:20191128
DTEND;VALUE=DATE:20191201
DTSTAMP:20260422T145048
CREATED:20190620T212445Z
LAST-MODIFIED:20190620T212445Z
UID:2116-1574899200-1575158399@menloparkacademyofdance.com
SUMMARY:Thanksgiving Break
DESCRIPTION:
URL:https://menloparkacademyofdance.com/event/thanksgiving-break/
END:VEVENT
BEGIN:VEVENT
DTSTART;VALUE=DATE:20190902
DTEND;VALUE=DATE:20190903
DTSTAMP:20260422T145048
CREATED:20190620T212139Z
LAST-MODIFIED:20190620T212139Z
UID:2113-1567382400-1567468799@menloparkacademyofdance.com
SUMMARY:Labor Day - No classes
DESCRIPTION:
URL:https://menloparkacademyofdance.com/event/labor-day-no-classes/
END:VEVENT
BEGIN:VEVENT
DTSTART;VALUE=DATE:20190819
DTEND;VALUE=DATE:20190820
DTSTAMP:20260422T145048
CREATED:20190701T140658Z
LAST-MODIFIED:20190701T140658Z
UID:2182-1566172800-1566259199@menloparkacademyofdance.com
SUMMARY:Year-Round Classes start
DESCRIPTION:
URL:https://menloparkacademyofdance.com/event/year-round-classes-start/
END:VEVENT
BEGIN:VEVENT
DTSTART;VALUE=DATE:20190708
DTEND;VALUE=DATE:20190811
DTSTAMP:20260422T145048
CREATED:20190418T154226Z
LAST-MODIFIED:20190418T154226Z
UID:1994-1562544000-1565481599@menloparkacademyofdance.com
SUMMARY:Summer Classes
DESCRIPTION:
URL:https://menloparkacademyofdance.com/event/summer-classes/
END:VEVENT
BEGIN:VEVENT
DTSTART;VALUE=DATE:20190624
DTEND;VALUE=DATE:20190630
DTSTAMP:20260422T145048
CREATED:20180702T220113Z
LAST-MODIFIED:20180702T220113Z
UID:1819-1561334400-1561852799@menloparkacademyofdance.com
SUMMARY:Junior Summer Intensive 2019
DESCRIPTION:3 levels for students who have completed Ballet III\, IV or V
URL:https://menloparkacademyofdance.com/event/junior-summer-intensive-2019/
END:VEVENT
BEGIN:VEVENT
DTSTART;VALUE=DATE:20190610
DTEND;VALUE=DATE:20190622
DTSTAMP:20260422T145048
CREATED:20180702T215941Z
LAST-MODIFIED:20180702T215941Z
UID:1817-1560124800-1561161599@menloparkacademyofdance.com
SUMMARY:Summer Intensive 2019
DESCRIPTION:Intermediate and Advanced levels
URL:https://menloparkacademyofdance.com/event/summer-intensive-2019/
END:VEVENT
BEGIN:VEVENT
DTSTART;VALUE=DATE:20190608
DTEND;VALUE=DATE:20190610
DTSTAMP:20260422T145048
CREATED:20180702T213008Z
LAST-MODIFIED:20180702T213008Z
UID:1813-1559952000-1560124799@menloparkacademyofdance.com
SUMMARY:June 2019 Recital
DESCRIPTION:
URL:https://menloparkacademyofdance.com/event/june-2019-recital/
LOCATION:Woodside High School Performing Arts Center\, 199 Churchill Ave\, Woodside\, CA\, 94062
END:VEVENT
BEGIN:VEVENT
DTSTART;VALUE=DATE:20190607
DTEND;VALUE=DATE:20190608
DTSTAMP:20260422T145048
CREATED:20180702T212252Z
LAST-MODIFIED:20180702T212252Z
UID:1802-1559865600-1559951999@menloparkacademyofdance.com
SUMMARY:Last day of class
DESCRIPTION:
URL:https://menloparkacademyofdance.com/event/last-day-of-class/
END:VEVENT
BEGIN:VEVENT
DTSTART;VALUE=DATE:20190507
DTEND;VALUE=DATE:20190508
DTSTAMP:20260422T145048
CREATED:20180702T212034Z
LAST-MODIFIED:20180702T212034Z
UID:1800-1557187200-1557273599@menloparkacademyofdance.com
SUMMARY:Memorial Day: no classes
DESCRIPTION:Please make up classes you will miss – there are no refunds for missed classes due to Memorial Day.
URL:https://menloparkacademyofdance.com/event/memorial-day-no-classes/
END:VEVENT
END:VCALENDAR